Package: seq2pathway Version: 1.27.1 Command: D:\biocbuild\bbs-3.15-bioc\R\bin\R.exe CMD check --no-multiarch --install=check:seq2pathway.install-out.txt --library=D:\biocbuild\bbs-3.15-bioc\R\library --no-vignettes --timings seq2pathway_1.27.1.tar.gz StartedAt: 2022-03-17 20:14:59 -0400 (Thu, 17 Mar 2022) EndedAt: 2022-03-17 20:18:36 -0400 (Thu, 17 Mar 2022) EllapsedTime: 216.9 seconds RetCode: 0 Status: WARNINGS CheckDir: seq2pathway.Rcheck Warnings: 2