Package: seqTools Version: 1.30.0 Command: /Library/Frameworks/R.framework/Resources/bin/R CMD INSTALL seqTools StartedAt: 2022-10-18 15:18:02 -0400 (Tue, 18 Oct 2022) EndedAt: 2022-10-18 15:18:48 -0400 (Tue, 18 Oct 2022) EllapsedTime: 45.3 seconds RetCode: 0 Status: OK