Package: soGGi Version: 1.28.0 Command: /Library/Frameworks/R.framework/Resources/bin/R CMD check --install=check:soGGi.install-out.txt --library=/Library/Frameworks/R.framework/Resources/library --no-vignettes --timings soGGi_1.28.0.tar.gz StartedAt: 2022-10-19 08:16:06 -0400 (Wed, 19 Oct 2022) EndedAt: 2022-10-19 08:23:47 -0400 (Wed, 19 Oct 2022) EllapsedTime: 461.1 seconds RetCode: 0 Status: OK CheckDir: soGGi.Rcheck Warnings: 0