Package: splatter Version: 1.20.0 Command: /Library/Frameworks/R.framework/Resources/bin/R CMD INSTALL splatter StartedAt: 2022-10-18 15:51:13 -0400 (Tue, 18 Oct 2022) EndedAt: 2022-10-18 15:52:10 -0400 (Tue, 18 Oct 2022) EllapsedTime: 56.9 seconds RetCode: 0 Status: OK