Package: splatter Version: 1.20.0 Command: rm -rf splatter.buildbin-libdir && mkdir splatter.buildbin-libdir && F:\biocbuild\bbs-3.15-bioc\R\bin\R.exe CMD INSTALL --build --library=splatter.buildbin-libdir splatter_1.20.0.tar.gz StartedAt: 2022-10-19 06:38:03 -0400 (Wed, 19 Oct 2022) EndedAt: 2022-10-19 06:38:59 -0400 (Wed, 19 Oct 2022) EllapsedTime: 56.1 seconds RetCode: 0 Status: OK PackageFile: splatter_1.20.0.zip PackageFileSize: 3.333 MiB