Package: splatter Version: 1.20.0 Command: chmod a+r splatter -R && F:\biocbuild\bbs-3.15-bioc\R\bin\R.exe CMD build --keep-empty-dirs --no-resave-data splatter StartedAt: 2022-10-18 21:16:05 -0400 (Tue, 18 Oct 2022) EndedAt: 2022-10-18 21:20:22 -0400 (Tue, 18 Oct 2022) EllapsedTime: 256.7 seconds RetCode: 0 Status: OK PackageFile: splatter_1.20.0.tar.gz PackageFileSize: 3.534 MiB