Package: sva Version: 3.44.0 Command: /Library/Frameworks/R.framework/Resources/bin/R CMD build --keep-empty-dirs --no-resave-data sva StartedAt: 2022-10-18 22:10:27 -0400 (Tue, 18 Oct 2022) EndedAt: 2022-10-18 22:12:02 -0400 (Tue, 18 Oct 2022) EllapsedTime: 95.2 seconds RetCode: 0 Status: OK PackageFile: sva_3.44.0.tar.gz PackageFileSize: 430.7 KiB