Package: timescape Version: 1.20.0 Command: /Library/Frameworks/R.framework/Resources/bin/R CMD check --install=check:timescape.install-out.txt --library=/Library/Frameworks/R.framework/Resources/library --no-vignettes --timings timescape_1.20.0.tar.gz StartedAt: 2022-10-19 08:55:42 -0400 (Wed, 19 Oct 2022) EndedAt: 2022-10-19 08:56:12 -0400 (Wed, 19 Oct 2022) EllapsedTime: 30.4 seconds RetCode: 0 Status: WARNINGS CheckDir: timescape.Rcheck Warnings: 1