Package: GenomicFeatures Version: 1.48.4 Command: /home/biocbuild/bbs-3.15-bioc/R/bin/R CMD build --keep-empty-dirs --no-resave-data --no-build-vignettes --no-manual GenomicFeatures StartedAt: 2022-10-15 08:00:16 -0400 (Sat, 15 Oct 2022) EndedAt: 2022-10-15 08:00:18 -0400 (Sat, 15 Oct 2022) EllapsedTime: 1.9 seconds RetCode: 0 Status: OK PackageFile: GenomicFeatures_1.48.4.tar.gz PackageFileSize: 1.107 MiB