Package: Anaquin Version: 2.22.0 Command: /home/biocbuild/bbs-3.16-bioc/R/bin/R CMD INSTALL Anaquin StartedAt: 2023-04-10 15:42:20 -0400 (Mon, 10 Apr 2023) EndedAt: 2023-04-10 15:42:26 -0400 (Mon, 10 Apr 2023) EllapsedTime: 6.5 seconds RetCode: 0 Status: OK