Package: ArrayExpressHTS Version: 1.47.0 Command: /home/biocbuild/bbs-3.16-bioc/R/bin/R CMD check --install=check:ArrayExpressHTS.install-out.txt --library=/home/biocbuild/bbs-3.16-bioc/R/library --no-vignettes --timings ArrayExpressHTS_1.47.0.tar.gz StartedAt: 2022-05-02 18:29:38 -0400 (Mon, 02 May 2022) EndedAt: 2022-05-02 18:33:27 -0400 (Mon, 02 May 2022) EllapsedTime: 228.9 seconds RetCode: 0 Status: WARNINGS CheckDir: ArrayExpressHTS.Rcheck Warnings: 1