Package: BAGS Version: 2.37.0 Command: rm -rf BAGS.buildbin-libdir && mkdir BAGS.buildbin-libdir && /Users/biocbuild/BBS/utils/build-universal.sh BAGS_2.37.0.tar.gz /Library/Frameworks/R.framework/Resources/bin/R BAGS.buildbin-libdir StartedAt: 2022-07-07 07:30:49 -0400 (Thu, 07 Jul 2022) EndedAt: 2022-07-07 07:30:57 -0400 (Thu, 07 Jul 2022) EllapsedTime: 8.9 seconds RetCode: 1 Status: ERROR PackageFile: None PackageFileSize: NA