Package: BAGS Version: 2.38.0 Command: /home/biocbuild/bbs-3.16-bioc/R/bin/R CMD build --keep-empty-dirs --no-resave-data BAGS StartedAt: 2023-04-10 16:06:22 -0400 (Mon, 10 Apr 2023) EndedAt: 2023-04-10 16:07:12 -0400 (Mon, 10 Apr 2023) EllapsedTime: 49.9 seconds RetCode: 0 Status: OK PackageFile: BAGS_2.38.0.tar.gz PackageFileSize: 194.3 KiB