Package: BAGS Version: 2.38.0 Command: /home/biocbuild/bbs-3.16-bioc/R/bin/R CMD INSTALL BAGS StartedAt: 2023-04-10 15:10:06 -0400 (Mon, 10 Apr 2023) EndedAt: 2023-04-10 15:10:10 -0400 (Mon, 10 Apr 2023) EllapsedTime: 4.4 seconds RetCode: 0 Status: OK