Package: BaalChIP Version: 1.24.0 Command: /Library/Frameworks/R.framework/Resources/bin/R CMD build --keep-empty-dirs --no-resave-data BaalChIP StartedAt: 2023-04-10 15:50:44 -0400 (Mon, 10 Apr 2023) EndedAt: 2023-04-10 15:52:50 -0400 (Mon, 10 Apr 2023) EllapsedTime: 125.3 seconds RetCode: 0 Status: OK PackageFile: BaalChIP_1.24.0.tar.gz PackageFileSize: 45.15 MiB