Package: BaalChIP Version: 1.24.0 Command: /Library/Frameworks/R.framework/Resources/bin/R CMD check --install=check:BaalChIP.install-out.txt --library=/Library/Frameworks/R.framework/Resources/library --no-vignettes --timings BaalChIP_1.24.0.tar.gz StartedAt: 2023-04-10 18:51:57 -0400 (Mon, 10 Apr 2023) EndedAt: 2023-04-10 19:00:28 -0400 (Mon, 10 Apr 2023) EllapsedTime: 511.2 seconds RetCode: 0 Status: WARNINGS CheckDir: BaalChIP.Rcheck Warnings: 1