Package: BioPlex Version: 1.3.1 Command: rm -rf BioPlex.buildbin-libdir && mkdir BioPlex.buildbin-libdir && F:\biocbuild\bbs-3.16-bioc\R\bin\R.exe CMD INSTALL --merge-multiarch --build --library=BioPlex.buildbin-libdir BioPlex_1.3.1.tar.gz StartedAt: 2022-07-08 07:25:32 -0400 (Fri, 08 Jul 2022) EndedAt: 2022-07-08 07:25:55 -0400 (Fri, 08 Jul 2022) EllapsedTime: 23.4 seconds RetCode: 0 Status: OK PackageFile: BioPlex_1.3.1.zip PackageFileSize: 706.9 KiB