Package: BioPlex Version: 1.3.1 Command: C:\cygwin\bin\curl.exe -O http://155.52.207.166/BBS/3.16/bioc/src/contrib/BioPlex_1.3.1.tar.gz && rm -rf BioPlex.buildbin-libdir && mkdir BioPlex.buildbin-libdir && F:\biocbuild\bbs-3.16-bioc\R\bin\R.exe CMD INSTALL --merge-multiarch --build --library=BioPlex.buildbin-libdir BioPlex_1.3.1.tar.gz && F:\biocbuild\bbs-3.16-bioc\R\bin\R.exe CMD INSTALL BioPlex_1.3.1.zip && rm BioPlex_1.3.1.tar.gz BioPlex_1.3.1.zip StartedAt: 2022-07-07 16:17:00 -0400 (Thu, 07 Jul 2022) EndedAt: 2022-07-07 16:17:24 -0400 (Thu, 07 Jul 2022) EllapsedTime: 24.1 seconds RetCode: 0 Status: OK