Package: BiocBaseUtils Version: 0.99.9 Command: rm -rf BiocBaseUtils.buildbin-libdir && mkdir BiocBaseUtils.buildbin-libdir && /Users/biocbuild/BBS/utils/build-universal.sh BiocBaseUtils_0.99.9.tar.gz /Library/Frameworks/R.framework/Resources/bin/R BiocBaseUtils.buildbin-libdir StartedAt: 2022-07-07 07:33:53 -0400 (Thu, 07 Jul 2022) EndedAt: 2022-07-07 07:33:58 -0400 (Thu, 07 Jul 2022) EllapsedTime: 5.5 seconds RetCode: 0 Status: OK PackageFile: BiocBaseUtils_0.99.9.tgz PackageFileSize: 236.1 KiB