Package: BiocBaseUtils Version: 0.99.9 Command: /Library/Frameworks/R.framework/Resources/bin/R CMD INSTALL BiocBaseUtils StartedAt: 2022-07-10 15:09:48 -0400 (Sun, 10 Jul 2022) EndedAt: 2022-07-10 15:09:50 -0400 (Sun, 10 Jul 2022) EllapsedTime: 2.3 seconds RetCode: 0 Status: OK