Package: BiocSklearn Version: 1.20.1 Command: chmod a+r BiocSklearn -R && F:\biocbuild\bbs-3.16-bioc\R\bin\R.exe CMD build --keep-empty-dirs --no-resave-data BiocSklearn StartedAt: 2023-04-10 17:20:10 -0400 (Mon, 10 Apr 2023) EndedAt: 2023-04-10 17:21:26 -0400 (Mon, 10 Apr 2023) EllapsedTime: 75.6 seconds RetCode: 0 Status: OK PackageFile: BiocSklearn_1.20.1.tar.gz PackageFileSize: 32.52 MiB