Package: CARNIVAL Version: 2.8.0 Command: rm -rf CARNIVAL.buildbin-libdir && mkdir CARNIVAL.buildbin-libdir && /Users/biocbuild/BBS/utils/build-universal.sh CARNIVAL_2.8.0.tar.gz /Library/Frameworks/R.framework/Resources/bin/R CARNIVAL.buildbin-libdir StartedAt: 2023-04-10 23:35:27 -0400 (Mon, 10 Apr 2023) EndedAt: 2023-04-10 23:35:37 -0400 (Mon, 10 Apr 2023) EllapsedTime: 9.1 seconds RetCode: 0 Status: OK PackageFile: CARNIVAL_2.8.0.tgz PackageFileSize: 413.9 KiB