Package: CARNIVAL Version: 2.8.0 Command: rm -rf CARNIVAL.buildbin-libdir && mkdir CARNIVAL.buildbin-libdir && F:\biocbuild\bbs-3.16-bioc\R\bin\R.exe CMD INSTALL --build --library=CARNIVAL.buildbin-libdir CARNIVAL_2.8.0.tar.gz StartedAt: 2023-04-11 07:40:34 -0400 (Tue, 11 Apr 2023) EndedAt: 2023-04-11 07:40:51 -0400 (Tue, 11 Apr 2023) EllapsedTime: 16.8 seconds RetCode: 0 Status: OK PackageFile: CARNIVAL_2.8.0.zip PackageFileSize: 420.1 KiB