Package: CARNIVAL Version: 2.8.0 Command: F:\biocbuild\bbs-3.16-bioc\R\bin\R.exe CMD check --no-multiarch --install=check:CARNIVAL.install-out.txt --library=F:\biocbuild\bbs-3.16-bioc\R\library --no-vignettes --timings CARNIVAL_2.8.0.tar.gz StartedAt: 2023-04-10 23:39:11 -0400 (Mon, 10 Apr 2023) EndedAt: 2023-04-10 23:40:04 -0400 (Mon, 10 Apr 2023) EllapsedTime: 53.4 seconds RetCode: 0 Status: OK CheckDir: CARNIVAL.Rcheck Warnings: 0