Package: CNORode Version: 1.39.0 Command: /Library/Frameworks/R.framework/Resources/bin/R CMD INSTALL CNORode StartedAt: 2022-07-10 16:31:42 -0400 (Sun, 10 Jul 2022) EndedAt: 2022-07-10 16:32:10 -0400 (Sun, 10 Jul 2022) EllapsedTime: 27.4 seconds RetCode: 0 Status: OK