Package: CNORode Version: 1.40.0 Command: rm -rf CNORode.buildbin-libdir && mkdir CNORode.buildbin-libdir && F:\biocbuild\bbs-3.16-bioc\R\bin\R.exe CMD INSTALL --build --library=CNORode.buildbin-libdir CNORode_1.40.0.tar.gz StartedAt: 2023-04-11 07:46:14 -0400 (Tue, 11 Apr 2023) EndedAt: 2023-04-11 07:46:49 -0400 (Tue, 11 Apr 2023) EllapsedTime: 34.2 seconds RetCode: 0 Status: OK PackageFile: CNORode_1.40.0.zip PackageFileSize: 643.4 KiB