Package: COTAN Version: 1.2.0 Command: /home/biocbuild/bbs-3.16-bioc/R/bin/R CMD check --install=check:COTAN.install-out.txt --library=/home/biocbuild/bbs-3.16-bioc/R/site-library --timings COTAN_1.2.0.tar.gz StartedAt: 2023-04-10 19:59:05 -0400 (Mon, 10 Apr 2023) EndedAt: 2023-04-10 20:02:32 -0400 (Mon, 10 Apr 2023) EllapsedTime: 207.4 seconds RetCode: 0 Status: OK CheckDir: COTAN.Rcheck Warnings: 0