Package: Category Version: 2.64.0 Command: /Library/Frameworks/R.framework/Resources/bin/R CMD build --keep-empty-dirs --no-resave-data Category StartedAt: 2023-04-10 16:03:03 -0400 (Mon, 10 Apr 2023) EndedAt: 2023-04-10 16:04:30 -0400 (Mon, 10 Apr 2023) EllapsedTime: 87.2 seconds RetCode: 0 Status: OK PackageFile: Category_2.64.0.tar.gz PackageFileSize: 874.8 KiB