Package: Category Version: 2.64.0 Command: /Library/Frameworks/R.framework/Resources/bin/R CMD check --install=check:Category.install-out.txt --library=/Library/Frameworks/R.framework/Resources/library --no-vignettes --timings Category_2.64.0.tar.gz StartedAt: 2023-04-10 19:14:09 -0400 (Mon, 10 Apr 2023) EndedAt: 2023-04-10 19:17:43 -0400 (Mon, 10 Apr 2023) EllapsedTime: 213.5 seconds RetCode: 0 Status: OK CheckDir: Category.Rcheck Warnings: 0