Package: CellBarcode Version: 1.4.0 Command: /Library/Frameworks/R.framework/Resources/bin/R CMD check --install=check:CellBarcode.install-out.txt --library=/Library/Frameworks/R.framework/Resources/library --no-vignettes --timings CellBarcode_1.4.0.tar.gz StartedAt: 2023-04-10 19:16:43 -0400 (Mon, 10 Apr 2023) EndedAt: 2023-04-10 19:20:29 -0400 (Mon, 10 Apr 2023) EllapsedTime: 226.1 seconds RetCode: 0 Status: OK CheckDir: CellBarcode.Rcheck Warnings: 0