Package: CellBarcode Version: 1.4.0 Command: F:\biocbuild\bbs-3.16-bioc\R\bin\R.exe CMD INSTALL CellBarcode StartedAt: 2023-04-10 16:15:37 -0400 (Mon, 10 Apr 2023) EndedAt: 2023-04-10 16:16:59 -0400 (Mon, 10 Apr 2023) EllapsedTime: 82.3 seconds RetCode: 0 Status: OK