Package: CelliD Version: 1.5.0 Command: /Library/Frameworks/R.framework/Resources/bin/R CMD build --keep-empty-dirs --no-resave-data CelliD StartedAt: 2022-07-06 19:07:08 -0400 (Wed, 06 Jul 2022) EndedAt: 2022-07-06 19:07:09 -0400 (Wed, 06 Jul 2022) EllapsedTime: 1.2 seconds RetCode: 1 Status: ERROR PackageFile: None PackageFileSize: NA