Package: CelliD Version: 1.5.0 Command: /Library/Frameworks/R.framework/Resources/bin/R CMD INSTALL CelliD StartedAt: 2022-07-10 19:08:21 -0400 (Sun, 10 Jul 2022) EndedAt: 2022-07-10 19:11:32 -0400 (Sun, 10 Jul 2022) EllapsedTime: 190.4 seconds RetCode: 0 Status: OK