Package: ChemmineR Version: 3.50.0 Command: /Library/Frameworks/R.framework/Resources/bin/R CMD INSTALL ChemmineR StartedAt: 2023-04-10 15:09:53 -0400 (Mon, 10 Apr 2023) EndedAt: 2023-04-10 15:10:32 -0400 (Mon, 10 Apr 2023) EllapsedTime: 39.7 seconds RetCode: 0 Status: OK