Package: ChemmineR Version: 3.50.0 Command: F:\biocbuild\bbs-3.16-bioc\R\bin\R.exe CMD INSTALL ChemmineR StartedAt: 2023-04-10 15:47:45 -0400 (Mon, 10 Apr 2023) EndedAt: 2023-04-10 15:48:35 -0400 (Mon, 10 Apr 2023) EllapsedTime: 50.2 seconds RetCode: 0 Status: OK