Package: ClusterJudge Version: 1.19.0 Command: rm -rf ClusterJudge.buildbin-libdir && mkdir ClusterJudge.buildbin-libdir && /Users/biocbuild/BBS/utils/build-universal.sh ClusterJudge_1.19.0.tar.gz /Library/Frameworks/R.framework/Resources/bin/R ClusterJudge.buildbin-libdir StartedAt: 2022-07-07 07:41:38 -0400 (Thu, 07 Jul 2022) EndedAt: 2022-07-07 07:41:50 -0400 (Thu, 07 Jul 2022) EllapsedTime: 11.1 seconds RetCode: 0 Status: OK PackageFile: ClusterJudge_1.19.0.tgz PackageFileSize: 4.271 MiB