Package: ClusterJudge Version: 1.20.0 Command: /home/biocbuild/bbs-3.16-bioc/R/bin/R CMD check --install=check:ClusterJudge.install-out.txt --library=/home/biocbuild/bbs-3.16-bioc/R/site-library --timings ClusterJudge_1.20.0.tar.gz StartedAt: 2023-04-10 19:46:54 -0400 (Mon, 10 Apr 2023) EndedAt: 2023-04-10 19:50:29 -0400 (Mon, 10 Apr 2023) EllapsedTime: 215.2 seconds RetCode: 0 Status: OK CheckDir: ClusterJudge.Rcheck Warnings: 0