Package: DNAshapeR Version: 1.25.0 Command: /Library/Frameworks/R.framework/Resources/bin/R CMD build --keep-empty-dirs --no-resave-data DNAshapeR StartedAt: 2022-07-06 20:25:58 -0400 (Wed, 06 Jul 2022) EndedAt: 2022-07-06 20:27:19 -0400 (Wed, 06 Jul 2022) EllapsedTime: 80.5 seconds RetCode: 0 Status: OK PackageFile: DNAshapeR_1.25.0.tar.gz PackageFileSize: 1.076 MiB