Package: DiffLogo Version: 2.22.0 Command: /Library/Frameworks/R.framework/Resources/bin/R CMD check --install=check:DiffLogo.install-out.txt --library=/Library/Frameworks/R.framework/Resources/library --no-vignettes --timings DiffLogo_2.22.0.tar.gz StartedAt: 2023-04-10 19:53:34 -0400 (Mon, 10 Apr 2023) EndedAt: 2023-04-10 19:54:12 -0400 (Mon, 10 Apr 2023) EllapsedTime: 38.4 seconds RetCode: 0 Status: WARNINGS CheckDir: DiffLogo.Rcheck Warnings: 1