Package: DiffLogo Version: 2.22.0 Command: /home/biocbuild/bbs-3.16-bioc/R/bin/R CMD build --keep-empty-dirs --no-resave-data DiffLogo StartedAt: 2023-04-10 16:35:57 -0400 (Mon, 10 Apr 2023) EndedAt: 2023-04-10 16:36:39 -0400 (Mon, 10 Apr 2023) EllapsedTime: 41.6 seconds RetCode: 0 Status: OK PackageFile: DiffLogo_2.22.0.tar.gz PackageFileSize: 814.8 KiB