Package: DiscoRhythm Version: 1.14.0 Command: /home/biocbuild/bbs-3.16-bioc/R/bin/R CMD check --install=check:DiscoRhythm.install-out.txt --library=/home/biocbuild/bbs-3.16-bioc/R/site-library --timings DiscoRhythm_1.14.0.tar.gz StartedAt: 2023-04-10 20:20:54 -0400 (Mon, 10 Apr 2023) EndedAt: 2023-04-10 20:24:22 -0400 (Mon, 10 Apr 2023) EllapsedTime: 207.9 seconds RetCode: 0 Status: OK CheckDir: DiscoRhythm.Rcheck Warnings: 0