Package: EBSEA Version: 1.25.0 Command: /Library/Frameworks/R.framework/Resources/bin/R CMD INSTALL EBSEA StartedAt: 2022-07-10 17:55:20 -0400 (Sun, 10 Jul 2022) EndedAt: 2022-07-10 17:57:22 -0400 (Sun, 10 Jul 2022) EllapsedTime: 121.4 seconds RetCode: 0 Status: OK