Package: EBSEA Version: 1.26.0 Command: /Library/Frameworks/R.framework/Resources/bin/R CMD build --keep-empty-dirs --no-resave-data EBSEA StartedAt: 2023-04-10 16:26:57 -0400 (Mon, 10 Apr 2023) EndedAt: 2023-04-10 16:27:36 -0400 (Mon, 10 Apr 2023) EllapsedTime: 38.6 seconds RetCode: 0 Status: OK PackageFile: EBSEA_1.26.0.tar.gz PackageFileSize: 46.96 KiB