Package: EBSEA Version: 1.26.0 Command: /Library/Frameworks/R.framework/Resources/bin/R CMD INSTALL EBSEA StartedAt: 2023-04-10 15:28:36 -0400 (Mon, 10 Apr 2023) EndedAt: 2023-04-10 15:29:08 -0400 (Mon, 10 Apr 2023) EllapsedTime: 32.1 seconds RetCode: 0 Status: OK