Package: EBSEA Version: 1.26.0 Command: rm -rf EBSEA.buildbin-libdir && mkdir EBSEA.buildbin-libdir && F:\biocbuild\bbs-3.16-bioc\R\bin\R.exe CMD INSTALL --build --library=EBSEA.buildbin-libdir EBSEA_1.26.0.tar.gz StartedAt: 2023-04-11 07:55:58 -0400 (Tue, 11 Apr 2023) EndedAt: 2023-04-11 07:56:48 -0400 (Tue, 11 Apr 2023) EllapsedTime: 49.4 seconds RetCode: 0 Status: OK PackageFile: EBSEA_1.26.0.zip PackageFileSize: 54.85 KiB