Package: EBSEA Version: 1.26.0 Command: chmod a+r EBSEA -R && F:\biocbuild\bbs-3.16-bioc\R\bin\R.exe CMD build --keep-empty-dirs --no-resave-data EBSEA StartedAt: 2023-04-10 18:21:18 -0400 (Mon, 10 Apr 2023) EndedAt: 2023-04-10 18:22:06 -0400 (Mon, 10 Apr 2023) EllapsedTime: 47.6 seconds RetCode: 0 Status: OK PackageFile: EBSEA_1.26.0.tar.gz PackageFileSize: 31.35 KiB