Package: EBSEA Version: 1.26.0 Command: F:\biocbuild\bbs-3.16-bioc\R\bin\R.exe CMD check --no-multiarch --install=check:EBSEA.install-out.txt --library=F:\biocbuild\bbs-3.16-bioc\R\library --no-vignettes --timings EBSEA_1.26.0.tar.gz StartedAt: 2023-04-11 01:06:40 -0400 (Tue, 11 Apr 2023) EndedAt: 2023-04-11 01:09:50 -0400 (Tue, 11 Apr 2023) EllapsedTime: 190.0 seconds RetCode: 0 Status: OK CheckDir: EBSEA.Rcheck Warnings: 0