git_url: https://git.bioconductor.org/packages/EBarrays git_branch: RELEASE_3_16 git_last_commit: 1d200d5 git_last_commit_date: 2022-11-01 10:36:49 -0400 (Tue, 01 Nov 2022) Package: EBarrays Version: 2.62.0 Maintainer: Ming Yuan MaintainerEmail: myuan at isye.gatech.edu