Package: EBarrays Version: 2.62.0 Command: rm -rf EBarrays.buildbin-libdir && mkdir EBarrays.buildbin-libdir && /Users/biocbuild/BBS/utils/build-universal.sh EBarrays_2.62.0.tar.gz /Library/Frameworks/R.framework/Resources/bin/R EBarrays.buildbin-libdir StartedAt: 2023-04-10 23:41:49 -0400 (Mon, 10 Apr 2023) EndedAt: 2023-04-10 23:41:58 -0400 (Mon, 10 Apr 2023) EllapsedTime: 9.2 seconds RetCode: 0 Status: OK PackageFile: EBarrays_2.62.0.tgz PackageFileSize: 1.262 MiB