Package: EBarrays Version: 2.62.0 Command: F:\biocbuild\bbs-3.16-bioc\R\bin\R.exe CMD INSTALL EBarrays StartedAt: 2023-04-10 15:35:55 -0400 (Mon, 10 Apr 2023) EndedAt: 2023-04-10 15:36:13 -0400 (Mon, 10 Apr 2023) EllapsedTime: 18.3 seconds RetCode: 0 Status: OK